BEGIN:VCALENDAR
VERSION:2.0
PRODID:-//Yogahof Kukmirn und Yogaschule Südburgenland - ECPv6.15.19//NONSGML v1.0//EN
CALSCALE:GREGORIAN
METHOD:PUBLISH
X-ORIGINAL-URL:https://yogahof-kukmirn.at
X-WR-CALDESC:Veranstaltungen für Yogahof Kukmirn und Yogaschule Südburgenland
REFRESH-INTERVAL;VALUE=DURATION:PT1H
X-Robots-Tag:noindex
X-PUBLISHED-TTL:PT1H
BEGIN:VTIMEZONE
TZID:Europe/Vienna
BEGIN:DAYLIGHT
TZOFFSETFROM:+0100
TZOFFSETTO:+0200
TZNAME:CEST
DTSTART:20250330T010000
END:DAYLIGHT
BEGIN:STANDARD
TZOFFSETFROM:+0200
TZOFFSETTO:+0100
TZNAME:CET
DTSTART:20251026T010000
END:STANDARD
BEGIN:DAYLIGHT
TZOFFSETFROM:+0100
TZOFFSETTO:+0200
TZNAME:CEST
DTSTART:20260329T010000
END:DAYLIGHT
BEGIN:STANDARD
TZOFFSETFROM:+0200
TZOFFSETTO:+0100
TZNAME:CET
DTSTART:20261025T010000
END:STANDARD
BEGIN:DAYLIGHT
TZOFFSETFROM:+0100
TZOFFSETTO:+0200
TZNAME:CEST
DTSTART:20270328T010000
END:DAYLIGHT
BEGIN:STANDARD
TZOFFSETFROM:+0200
TZOFFSETTO:+0100
TZNAME:CET
DTSTART:20271031T010000
END:STANDARD
END:VTIMEZONE
BEGIN:VEVENT
DTSTART;TZID=Europe/Vienna:20260401T170000
DTEND;TZID=Europe/Vienna:20260404T120000
DTSTAMP:20260420T155344
CREATED:20260120T194954Z
LAST-MODIFIED:20260120T195001Z
UID:10000979-1775062800-1775304000@yogahof-kukmirn.at
SUMMARY:Oster-Yogatage 2026
DESCRIPTION:Bitte beachte die Detailinformationen zum Preis in der Ausschreibung. \nDein Zimmer ist nicht automatisch reserviert. Deine Zimmeranfrage kannst du direkt von der Website vornehmen. \nDu kannst dich hier verbindlich anmelden. \nWir senden dir eine Buchungsbestätigung und die Rechnung per E-Mail. Mit Eingang der Anzahlung ist der Platz für dich reserviert. \n 
URL:https://yogahof-kukmirn.at/event/oster-yogatage-2026/
LOCATION:Yogahof Kukmirn\, Zellenbergstraße 15\, 7543 Kukmirn\, Österreich
CATEGORIES:Retreat,Weiterbildung
ATTACH;FMTTYPE=image/jpeg:https://yogahof-kukmirn.at/wp-content/uploads/2024/05/meditation-1.jpg
END:VEVENT
END:VCALENDAR