BEGIN:VCALENDAR
VERSION:2.0
PRODID:-//Yogahof Kukmirn und Yogaschule Südburgenland - ECPv6.15.19//NONSGML v1.0//EN
CALSCALE:GREGORIAN
METHOD:PUBLISH
X-ORIGINAL-URL:https://yogahof-kukmirn.at
X-WR-CALDESC:Veranstaltungen für Yogahof Kukmirn und Yogaschule Südburgenland
REFRESH-INTERVAL;VALUE=DURATION:PT1H
X-Robots-Tag:noindex
X-PUBLISHED-TTL:PT1H
BEGIN:VTIMEZONE
TZID:Europe/Vienna
BEGIN:DAYLIGHT
TZOFFSETFROM:+0100
TZOFFSETTO:+0200
TZNAME:CEST
DTSTART:20250330T010000
END:DAYLIGHT
BEGIN:STANDARD
TZOFFSETFROM:+0200
TZOFFSETTO:+0100
TZNAME:CET
DTSTART:20251026T010000
END:STANDARD
BEGIN:DAYLIGHT
TZOFFSETFROM:+0100
TZOFFSETTO:+0200
TZNAME:CEST
DTSTART:20260329T010000
END:DAYLIGHT
BEGIN:STANDARD
TZOFFSETFROM:+0200
TZOFFSETTO:+0100
TZNAME:CET
DTSTART:20261025T010000
END:STANDARD
BEGIN:DAYLIGHT
TZOFFSETFROM:+0100
TZOFFSETTO:+0200
TZNAME:CEST
DTSTART:20270328T010000
END:DAYLIGHT
BEGIN:STANDARD
TZOFFSETFROM:+0200
TZOFFSETTO:+0100
TZNAME:CET
DTSTART:20271031T010000
END:STANDARD
END:VTIMEZONE
BEGIN:VEVENT
DTSTART;TZID=Europe/Vienna:20260501T170000
DTEND;TZID=Europe/Vienna:20260503T130000
DTSTAMP:20260420T130402
CREATED:20250910T082934Z
LAST-MODIFIED:20251112T135126Z
UID:10000972-1777654800-1777813200@yogahof-kukmirn.at
SUMMARY:Yoga und indischer Tanz
DESCRIPTION:mit Durrdana (Tanz) und Horst Buchebner (Yoga). \nBitte beachte die Detailinformationen zum Preis in der Ausschreibung. \nDein Zimmer ist nicht automatisch reserviert. Deine Zimmeranfrage kannst du direkt von der Website vornehmen. \nDu kannst dich hier verbindlich anmelden. \nWir senden dir eine Buchungsbestätigung und die Rechnung per E-Mail. Erst mit Erhalt der Bestätigung und Leistung der Anzahlung ist dein Platz fix reserviert. \n 
URL:https://yogahof-kukmirn.at/event/yoga-und-indischer-tanz/
LOCATION:Yogahof Kukmirn\, Zellenbergstraße 15\, 7543 Kukmirn\, Österreich
CATEGORIES:Retreat,Weiterbildung
ATTACH;FMTTYPE=image/jpeg:https://yogahof-kukmirn.at/wp-content/uploads/2025/09/Durrdana-1-1-e1773766394268.jpg
END:VEVENT
END:VCALENDAR